BEGIN:VCALENDAR
PRODID:-//eluceo/ical//2.0/EN
VERSION:2.0
CALSCALE:GREGORIAN
BEGIN:VEVENT
UID:4392faad1f3c9f7315cbc71a48ed343c
DTSTAMP:20260423T002058Z
SUMMARY:Spargelwochen
DESCRIPTION:Delikate Spargelgerichte gehören zu den zartesten Genüssen de
 s Frühlings. Die Köche des Restaurants Pelzmühle bereiten mit Talent un
 d Liebe köstliche Kreationen zu\, von traditionellen Spargelgerichten bis
  zu außergewöhnlichen kulinarischen Kombinationen.
URL:https://www.meinplaner.com
DTSTART;TZID=Europe/Amsterdam:20260423T110000
DTEND;TZID=Europe/Amsterdam:20260423T230000
LOCATION:Schloßberg 16\, 09113 Chemnitz
BEGIN:VALARM
ACTION:DISPLAY
DESCRIPTION:Erinnerung: Spargelwochen beginnt in 1 Stunde
TRIGGER;RELATED=END:-PT1H
END:VALARM
END:VEVENT
END:VCALENDAR
