BEGIN:VCALENDAR
PRODID:-//eluceo/ical//2.0/EN
VERSION:2.0
CALSCALE:GREGORIAN
BEGIN:VEVENT
UID:2e7cf8cbfb2a8deb0b070c2406a9ad12
DTSTAMP:20260419T181232Z
SUMMARY:Fossilien entdecken zum „Hang zur Kultur“
DESCRIPTION:Das Grabungsgelände auf dem Sonnenberg lädt dazu ein\, Fossil
 ien und Erdgeschichte spielerisch zu entdecken. Mit Quiz\, Mitmachangebote
 n und Einblicken in den versteinerten Wald wird die Urzeit lebendig.
URL:https://www.meinplaner.com
DTSTART;TZID=Europe/Amsterdam:20260523T140000
DTEND;TZID=Europe/Amsterdam:20260523T180000
LOCATION:Glockenstr. 16\, 09130 Chemnitz
BEGIN:VALARM
ACTION:DISPLAY
DESCRIPTION:Erinnerung: Fossilien entdecken zum „Hang zur Kultur“ begin
 nt in 1 Stunde
TRIGGER;RELATED=END:-PT1H
END:VALARM
END:VEVENT
END:VCALENDAR
