BEGIN:VCALENDAR
PRODID:-//eluceo/ical//2.0/EN
VERSION:2.0
CALSCALE:GREGORIAN
BEGIN:VEVENT
UID:51ebc2fcecd86b477291a8a8684790a3
DTSTAMP:20260421T015302Z
SUMMARY:Die Vielfalt der Japanischen Küche​
DESCRIPTION:Yuki in Chemnitz vereint japanische Tradition und moderne Küch
 e in stilvollem Ambiente. Frisches Sushi\, aromatische Ramen und kreative 
 Fusion-Gerichte schaffen ein einzigartiges Geschmackserlebnis. Eine Locati
 on für Genießer und besondere Momente.
URL:https://www.meinplaner.com
DTSTART;TZID=Europe/Amsterdam:20260421T113000
DTEND;TZID=Europe/Amsterdam:20260421T150000
LOCATION:Straße der Nationen 104\, 09111 Chemnitz
BEGIN:VALARM
ACTION:DISPLAY
DESCRIPTION:Erinnerung: Die Vielfalt der Japanischen Küche​ beginnt in 1
  Stunde
TRIGGER;RELATED=END:-PT1H
END:VALARM
END:VEVENT
BEGIN:VEVENT
UID:6d54ff17d6f9785674bb1b4955173e59
DTSTAMP:20260421T015302Z
SUMMARY:Die Vielfalt der Japanischen Küche​
DESCRIPTION:Yuki in Chemnitz vereint japanische Tradition und moderne Küch
 e in stilvollem Ambiente. Frisches Sushi\, aromatische Ramen und kreative 
 Fusion-Gerichte schaffen ein einzigartiges Geschmackserlebnis. Eine Locati
 on für Genießer und besondere Momente.
URL:https://www.meinplaner.com
DTSTART;TZID=Europe/Amsterdam:20260421T170000
DTEND;TZID=Europe/Amsterdam:20260421T220000
LOCATION:Straße der Nationen 104\, 09111 Chemnitz
BEGIN:VALARM
ACTION:DISPLAY
DESCRIPTION:Erinnerung: Die Vielfalt der Japanischen Küche​ beginnt in 1
  Stunde
TRIGGER;RELATED=END:-PT1H
END:VALARM
END:VEVENT
END:VCALENDAR
