BEGIN:VCALENDAR
PRODID:-//eluceo/ical//2.0/EN
VERSION:2.0
CALSCALE:GREGORIAN
BEGIN:VEVENT
UID:7599ffa556646493af3a16ca513cd4db
DTSTAMP:20260422T140703Z
SUMMARY:Irina Sherbakowa: Der Schlüssel würde noch passen
DESCRIPTION:Irina Scherbakowa\, Friedensnobelpreisträgerin und Mitbegründ
 erin von Memorial\, stellt in Sachsen ihr autobiografisches Buch vor\, in 
 dem sie ihre Erinnerungen an das Leben in Russland nach der Perestroika un
 d ihren Kampf für Menschenrechte teilt.
URL:https://www.meinplaner.com
DTSTART;TZID=Europe/Amsterdam:20260428T180000
DTEND;TZID=Europe/Amsterdam:20260428T200000
LOCATION:Kleine Biergasse 3\, 08056 Zwickau
BEGIN:VALARM
ACTION:DISPLAY
DESCRIPTION:Erinnerung: Irina Sherbakowa: Der Schlüssel würde noch passen
  beginnt in 1 Stunde
TRIGGER;RELATED=END:-PT1H
END:VALARM
END:VEVENT
END:VCALENDAR
