BEGIN:VCALENDAR
PRODID:-//eluceo/ical//2.0/EN
VERSION:2.0
CALSCALE:GREGORIAN
BEGIN:VEVENT
UID:75ed536a01ff5bae5c6bbcb340850f85
DTSTAMP:20260423T104942Z
SUMMARY:18-Loch-Tisch-Minigolfanlage
DESCRIPTION:Die 18-Loch-Tisch-Minigolfanlage bietet Spielspaß für die gan
 ze Familie. Einfach Kö und Bälle ausleihen und loslegen – ideal auch f
 ür kleine Turniere. Bei dauerhaftem Regen bleibt die Anlage geschlossen.
URL:https://www.meinplaner.com
DTSTART;TZID=Europe/Amsterdam:20260423T140000
DTEND;TZID=Europe/Amsterdam:20260423T190000
LOCATION:Niedermülsener Hauptstr. 88\, 08132 Mülsen
BEGIN:VALARM
ACTION:DISPLAY
DESCRIPTION:Erinnerung: 18-Loch-Tisch-Minigolfanlage beginnt in 1 Stunde
TRIGGER;RELATED=END:-PT1H
END:VALARM
END:VEVENT
END:VCALENDAR
