BEGIN:VCALENDAR
PRODID:-//eluceo/ical//2.0/EN
VERSION:2.0
CALSCALE:GREGORIAN
BEGIN:VEVENT
UID:962589cccf9cbf4a42ad9b4a2a7ef829
DTSTAMP:20260419T153143Z
SUMMARY:Die RADIO PSR Sinnlos Märchen Tour 
DESCRIPTION:Sachsens lustigster Podcast geht wieder auf Tour. Im April und 
 Mai gastiert die Sinnlos Märchentour Vol. 3 mit „Schlaflos im Märchenw
 ald“. Steffen Lukas und Maximilian Reeg erzählen live schräge Märchen
 . 
URL:https://www.meinplaner.com
DTSTART;TZID=Europe/Amsterdam:20260501T193000
DTEND;TZID=Europe/Amsterdam:20260501T213000
LOCATION:Dr.-Külz-Str. 3\, 09599 Freiberg
BEGIN:VALARM
ACTION:DISPLAY
DESCRIPTION:Erinnerung: Die RADIO PSR Sinnlos Märchen Tour  beginnt in 1 S
 tunde
TRIGGER;RELATED=END:-PT1H
END:VALARM
END:VEVENT
END:VCALENDAR
