BEGIN:VCALENDAR
PRODID:-//eluceo/ical//2.0/EN
VERSION:2.0
CALSCALE:GREGORIAN
BEGIN:VEVENT
UID:a07a7c1e3e21bafb82f32c4435a0d630
DTSTAMP:20260424T081318Z
SUMMARY:Alltags-Gegengifte und Beziehungsdialoge
DESCRIPTION:Jan Lipowski entfaltet in seinen sechs Büchern einen bunten St
 rauß an Alltagsbeobachtungen und Beziehungsdialogen\, der humorvoll Theme
 n wie Ehe\, Treue\, vegane Hochzeiten und die Tücken des Alterns bei Män
 nern beleuchtet und zum Schmunzeln anregt.
URL:https://www.meinplaner.com
DTSTART;TZID=Europe/Amsterdam:20260627T193000
DTEND;TZID=Europe/Amsterdam:20260627T213000
LOCATION:An der Silber-Therme 1\, 09429 Wolkenstein
BEGIN:VALARM
ACTION:DISPLAY
DESCRIPTION:Erinnerung: Alltags-Gegengifte und Beziehungsdialoge beginnt in
  1 Stunde
TRIGGER;RELATED=END:-PT1H
END:VALARM
END:VEVENT
END:VCALENDAR
