BEGIN:VCALENDAR
PRODID:-//eluceo/ical//2.0/EN
VERSION:2.0
CALSCALE:GREGORIAN
BEGIN:VEVENT
UID:f47917d08c33f13288ebbc804c86cc27
DTSTAMP:20260422T102913Z
SUMMARY:Sub Terra Studio I Offene Werkstatt
DESCRIPTION:Eine Werkstatt unter der Erde! Dinge entstehen hier aber nur sc
 heinbar im Verborgenen\, denn die Werkstatt ist für alle zugänglich. Wä
 hrend der Öffnungszeiten ist immer eine Ansprechperson da\, die Werkstatt
  & Einrichtung zeigt\, eine kurze Einweisung vornimmt.
URL:https://www.meinplaner.com
DTSTART;TZID=Europe/Amsterdam:20260423T130000
DTEND;TZID=Europe/Amsterdam:20260423T180000
LOCATION:Vettersstr. 34a\, 09126 Chemnitz
BEGIN:VALARM
ACTION:DISPLAY
DESCRIPTION:Erinnerung: Sub Terra Studio I Offene Werkstatt beginnt in 1 St
 unde
TRIGGER;RELATED=END:-PT1H
END:VALARM
END:VEVENT
END:VCALENDAR
