BEGIN:VCALENDAR
PRODID:-//eluceo/ical//2.0/EN
VERSION:2.0
CALSCALE:GREGORIAN
BEGIN:VEVENT
UID:0aaf8c865eb4abfd7d0bb39553cbdd17
DTSTAMP:20260425T165639Z
SUMMARY:Top Gun
DESCRIPTION:Der junge Lieutenant Pete „Maverick“ Mitchell kämpft nicht
  nur gegen feindliche Jets\, sondern auch gegen seine inneren Dämonen\, w
 ährend er inmitten von Rivalität und Verlust versucht\, seinen Platz in 
 der Luft und im Herzen der Menschen um ihn herum zu finden.
URL:https://www.meinplaner.com
DTSTART;TZID=Europe/Amsterdam:20260513T193000
DTEND;TZID=Europe/Amsterdam:20260513T213000
LOCATION:Jägerstr. 24\, 09212 Limbach-Oberfrohna
BEGIN:VALARM
ACTION:DISPLAY
DESCRIPTION:Erinnerung: Top Gun beginnt in 1 Stunde
TRIGGER;RELATED=END:-PT1H
END:VALARM
END:VEVENT
END:VCALENDAR
