BEGIN:VCALENDAR
PRODID:-//eluceo/ical//2.0/EN
VERSION:2.0
CALSCALE:GREGORIAN
BEGIN:VEVENT
UID:fa36470760164ea1ba028b8ba4708160
DTSTAMP:20260422T072732Z
SUMMARY:Nussknackerfest 2026
DESCRIPTION:Der Auftakt zum Nussknackerfest lädt zum Austausch ein: Gewerb
 etreibende\, Gäste und Interessierte kommen zusammen\, um sich zu vernetz
 en\, Ideen auszutauschen und in entspannter Atmosphäre ins Gespräch zu k
 ommen.
URL:https://www.meinplaner.com
DTSTART;TZID=Europe/Amsterdam:20260529T190000
DTEND;TZID=Europe/Amsterdam:20260529T210000
LOCATION:Affalterbacherplatz \, 09544 Neuhausen/Erzgeb.
BEGIN:VALARM
ACTION:DISPLAY
DESCRIPTION:Erinnerung: Nussknackerfest 2026 beginnt in 1 Stunde
TRIGGER;RELATED=END:-PT1H
END:VALARM
END:VEVENT
END:VCALENDAR
