BEGIN:VCALENDAR
PRODID:-//eluceo/ical//2.0/EN
VERSION:2.0
CALSCALE:GREGORIAN
BEGIN:VEVENT
UID:c7a91ad9502f56295d6c24efc034ce48
DTSTAMP:20260424T202630Z
SUMMARY:Kunsthandwerkermarkt
DESCRIPTION:Der Kunsthandwerkermarkt bietet eine einzigartige Auswahl an ha
 ndgefertigten Produkten\, von Schmuck über Keramik bis hin zu Textilien\,
  die die Kreativität und das handwerkliche Können regionaler Künstler w
 iderspiegeln.
URL:https://www.meinplaner.com
DTSTART;TZID=Europe/Amsterdam:20260425T100000
DTEND;TZID=Europe/Amsterdam:20260425T180000
LOCATION:Klosterbuch  1\, 04703 Leisnig
BEGIN:VALARM
ACTION:DISPLAY
DESCRIPTION:Erinnerung: Kunsthandwerkermarkt beginnt in 1 Stunde
TRIGGER;RELATED=END:-PT1H
END:VALARM
END:VEVENT
END:VCALENDAR
