BEGIN:VCALENDAR
PRODID:-//eluceo/ical//2.0/EN
VERSION:2.0
CALSCALE:GREGORIAN
BEGIN:VEVENT
UID:3f432597e05165dd0bd649fa76277eb3
DTSTAMP:20260423T010049Z
SUMMARY:Genuss aus der Region
DESCRIPTION:Eine urgemütliche Gaststätte mit regionaler Küche und besten
  Zutaten aus der Umgebung. Klassiker wie Schweinebraten mit Apfelrotkraut 
 und Klößen stehen ebenso auf der Karte wie saisonale Spezialitäten. Don
 nerstags freut sich das Schnitzel über ein Freibier.
URL:https://www.meinplaner.com
DTSTART;TZID=Europe/Amsterdam:20260423T150000
DTEND;TZID=Europe/Amsterdam:20260423T220000
LOCATION:Irkutsker Str.  125\, 09119 Chemnitz
BEGIN:VALARM
ACTION:DISPLAY
DESCRIPTION:Erinnerung: Genuss aus der Region beginnt in 1 Stunde
TRIGGER;RELATED=END:-PT1H
END:VALARM
END:VEVENT
END:VCALENDAR
