BEGIN:VCALENDAR
PRODID:-//eluceo/ical//2.0/EN
VERSION:2.0
CALSCALE:GREGORIAN
BEGIN:VEVENT
UID:c0527b0478f9caeb69eab046da54c62f
DTSTAMP:20260421T051158Z
SUMMARY:Streetfood Festival Schwarzenberg
DESCRIPTION:Das Streetfood Festival in Schwarzenberg vom 01. bis 03. Mai ve
 rwandelt den Festplatz an der B101 in eine Genuss-Oase mit internationalen
  Köstlichkeiten\, Musik\, Unterhaltung und einem vielfältigen Rahmenprog
 ramm für die ganze Familie.
URL:https://www.meinplaner.com
DTSTART;TZID=Europe/Amsterdam:20260501T170000
DTEND;TZID=Europe/Amsterdam:20260501T220000
LOCATION:Straße der Einheit  70\, 08340 Schwarzenberg/Erzgeb.
BEGIN:VALARM
ACTION:DISPLAY
DESCRIPTION:Erinnerung: Streetfood Festival Schwarzenberg beginnt in 1 Stun
 de
TRIGGER;RELATED=END:-PT1H
END:VALARM
END:VEVENT
END:VCALENDAR
