BEGIN:VCALENDAR
PRODID:-//eluceo/ical//2.0/EN
VERSION:2.0
CALSCALE:GREGORIAN
BEGIN:VEVENT
UID:5befe2ce7e89a88a381ae1f04b0b7438
DTSTAMP:20260423T182507Z
SUMMARY:Hoppers
DESCRIPTION:In HOPPERS entdecken Wissenschaftler eine Technik\, mit der men
 schliches Bewusstsein in lebensechte Robotertiere springt. So können Mens
 chen als Tiere mit Tieren sprechen. Mabel entdeckt dabei unglaubliche Gehe
 imnisse der Tierwelt.
URL:https://www.meinplaner.com
DTSTART;TZID=Europe/Amsterdam:20260424T154500
DTEND;TZID=Europe/Amsterdam:20260424T174500
LOCATION:Neustädter Ring  2\, 08340 Schwarzenberg/Erzgeb.
BEGIN:VALARM
ACTION:DISPLAY
DESCRIPTION:Erinnerung: Hoppers beginnt in 1 Stunde
TRIGGER;RELATED=END:-PT1H
END:VALARM
END:VEVENT
END:VCALENDAR
