BEGIN:VCALENDAR
PRODID:-//eluceo/ical//2.0/EN
VERSION:2.0
CALSCALE:GREGORIAN
BEGIN:VEVENT
UID:fa7e40dd5a4412ade55cf971fad9f89a
DTSTAMP:20260423T025425Z
SUMMARY:Tanz(t) in den Mai!
DESCRIPTION:Zwickaus Kulturszene lädt ein\, entspannt in den Mai zu tanzen
 . Eine Bühne\, vier DJs und ein mitreißendes Musikkaleidoskop sorgen fü
 r Stimmung. Dazu gibt es leckere Drinks\, Snacks und die ein oder andere 
 Überraschung.\n
URL:https://www.meinplaner.com
DTSTART;TZID=Europe/Amsterdam:20260430T180000
DTEND;TZID=Europe/Amsterdam:20260430T230000
LOCATION:Hauptmarkt 1\, 08056 Zwickau
BEGIN:VALARM
ACTION:DISPLAY
DESCRIPTION:Erinnerung: Tanz(t) in den Mai! beginnt in 1 Stunde
TRIGGER;RELATED=END:-PT1H
END:VALARM
END:VEVENT
END:VCALENDAR
