BEGIN:VCALENDAR
PRODID:-//eluceo/ical//2.0/EN
VERSION:2.0
CALSCALE:GREGORIAN
BEGIN:VEVENT
UID:cdccbab65b1fdff309c8638353572687
DTSTAMP:20260423T161911Z
SUMMARY:Brain Battle
DESCRIPTION:In der Lounge können Teams mit bis zu vier Personen ihr Rätse
 ltalent unter Beweis stellen – entspannt bei Snacks und Drinks. Das Sieg
 erteam wird belohnt: Im Folgemonat gibt es die Mitgliedschaft gratis oder 
 die gesamte Team-Rechnung des Abends aufs Haus.
URL:https://www.meinplaner.com
DTSTART;TZID=Europe/Amsterdam:20260504T190000
DTEND;TZID=Europe/Amsterdam:20260504T210000
LOCATION:Dittersdorfer Str. 83\, 09120 Chemnitz
BEGIN:VALARM
ACTION:DISPLAY
DESCRIPTION:Erinnerung: Brain Battle beginnt in 1 Stunde
TRIGGER;RELATED=END:-PT1H
END:VALARM
END:VEVENT
END:VCALENDAR
