BEGIN:VCALENDAR
PRODID:-//eluceo/ical//2.0/EN
VERSION:2.0
CALSCALE:GREGORIAN
BEGIN:VEVENT
UID:f7cad582fa000f718d068581cafb63a4
DTSTAMP:20260423T010146Z
SUMMARY:Genuss auf hohem Niveau mit eigenem Stil
DESCRIPTION:Schicke Modernität und eine anspruchsvolle Gemütlichkeit biet
 et das zentrumsnahe "Alexxanders" in einem denkmalgeschützten Haus. Inhab
 er und Koch Roland Keilholz und sein Team kreieren auf reizvolle Weise lei
 chte deutsche Küche mit internationalen Einflüssen.
URL:https://www.meinplaner.com
DTSTART;TZID=Europe/Amsterdam:20260423T170000
DTEND;TZID=Europe/Amsterdam:20260423T220000
LOCATION:Ludwig-Kirsch-Str. 9\, 09130 Chemnitz
BEGIN:VALARM
ACTION:DISPLAY
DESCRIPTION:Erinnerung: Genuss auf hohem Niveau mit eigenem Stil beginnt in
  1 Stunde
TRIGGER;RELATED=END:-PT1H
END:VALARM
END:VEVENT
BEGIN:VEVENT
UID:0b2fdb264816d6792325003f5b81de48
DTSTAMP:20260423T010146Z
SUMMARY:Genuss auf hohem Niveau mit eigenem Stil
DESCRIPTION:Schicke Modernität und eine anspruchsvolle Gemütlichkeit biet
 et das zentrumsnahe "Alexxanders" in einem denkmalgeschützten Haus. Inhab
 er und Koch Roland Keilholz und sein Team kreieren auf reizvolle Weise lei
 chte deutsche Küche mit internationalen Einflüssen.
URL:https://www.meinplaner.com
DTSTART;TZID=Europe/Amsterdam:20260423T070000
DTEND;TZID=Europe/Amsterdam:20260423T120000
LOCATION:Ludwig-Kirsch-Str. 9\, 09130 Chemnitz
BEGIN:VALARM
ACTION:DISPLAY
DESCRIPTION:Erinnerung: Genuss auf hohem Niveau mit eigenem Stil beginnt in
  1 Stunde
TRIGGER;RELATED=END:-PT1H
END:VALARM
END:VEVENT
END:VCALENDAR
