BEGIN:VCALENDAR
PRODID:-//eluceo/ical//2.0/EN
VERSION:2.0
CALSCALE:GREGORIAN
BEGIN:VEVENT
UID:c054ae6de215eaa477bd5708658f2fbb
DTSTAMP:20260419T202300Z
SUMMARY:Sean Scully: Coin Stack 2
DESCRIPTION:Aufgewachsen als Sohn eines Friseurs\, gehören Münzstapel zu 
 den Kindheitseindrücken des Künstlers. Aufgestellt am "Bergmannsdom" eri
 nnert die Skulptur an die Arbeitskämpfe der Schneeberger Bergleute 1496/9
 8\, die die Lohnkürzung um einen Groschen verhinderten. 
URL:https://www.meinplaner.com
DTSTART;TZID=Europe/Amsterdam:20260419T000000
DTEND;TZID=Europe/Amsterdam:20260419T235900
LOCATION:Kirchplatz 16\, 08289 Schneeberg
BEGIN:VALARM
ACTION:DISPLAY
DESCRIPTION:Erinnerung: Sean Scully: Coin Stack 2 beginnt in 1 Stunde
TRIGGER;RELATED=END:-PT1H
END:VALARM
END:VEVENT
END:VCALENDAR
