BEGIN:VCALENDAR
PRODID:-//eluceo/ical//2.0/EN
VERSION:2.0
CALSCALE:GREGORIAN
BEGIN:VEVENT
UID:7aa2a0c354b919a303cc3c4361ee4391
DTSTAMP:20260424T111110Z
SUMMARY:Paper Lantern Communitychor
DESCRIPTION:Offenes Singen mit leichten Liedern aus verschiedenen Sprachen 
 lädt zum gemeinsamen Musizieren ein. Ohne Noten und ohne Vorkenntnisse st
 eht die Freude am Singen\, die Begegnung auf Augenhöhe und das gegenseiti
 ge Kennenlernen im Mittelpunkt.
URL:https://www.meinplaner.com
DTSTART;TZID=Europe/Amsterdam:20260427T180000
DTEND;TZID=Europe/Amsterdam:20260427T193000
LOCATION:Jakobstr. 46\, 09130 Chemnitz
BEGIN:VALARM
ACTION:DISPLAY
DESCRIPTION:Erinnerung: Paper Lantern Communitychor beginnt in 1 Stunde
TRIGGER;RELATED=END:-PT1H
END:VALARM
END:VEVENT
END:VCALENDAR
