BEGIN:VCALENDAR
PRODID:-//eluceo/ical//2.0/EN
VERSION:2.0
CALSCALE:GREGORIAN
BEGIN:VEVENT
UID:a17bc9032a32f040fb03e4efc96e0dd4
DTSTAMP:20260419T225912Z
SUMMARY:Der Super Mario Galaxy Film 3D/2D
DESCRIPTION:Im Film begeben sich die Brüder Mario und Luigi mit Prinzessin
  Peach und Toad auf eine aufregende Reise durch die Galaxie\, wo sie dank 
 mysteriöser Sternkatapulten neue Planeten erkunden\, gefährlichen Gegner
 n begegnen und unerwartete Freunde finden.
URL:https://www.meinplaner.com
DTSTART;TZID=Europe/Amsterdam:20260420T193000
DTEND;TZID=Europe/Amsterdam:20260420T213000
LOCATION:Poetenweg 6-8\, 08056 Zwickau
BEGIN:VALARM
ACTION:DISPLAY
DESCRIPTION:Erinnerung: Der Super Mario Galaxy Film 3D/2D beginnt in 1 Stun
 de
TRIGGER;RELATED=END:-PT1H
END:VALARM
END:VEVENT
BEGIN:VEVENT
UID:75562f39080917f39d9636527fc2c06f
DTSTAMP:20260419T225912Z
SUMMARY:Der Super Mario Galaxy Film 3D/2D
DESCRIPTION:Im Film begeben sich die Brüder Mario und Luigi mit Prinzessin
  Peach und Toad auf eine aufregende Reise durch die Galaxie\, wo sie dank 
 mysteriöser Sternkatapulten neue Planeten erkunden\, gefährlichen Gegner
 n begegnen und unerwartete Freunde finden.
URL:https://www.meinplaner.com
DTSTART;TZID=Europe/Amsterdam:20260420T173000
DTEND;TZID=Europe/Amsterdam:20260420T193000
LOCATION:Poetenweg 6-8\, 08056 Zwickau
BEGIN:VALARM
ACTION:DISPLAY
DESCRIPTION:Erinnerung: Der Super Mario Galaxy Film 3D/2D beginnt in 1 Stun
 de
TRIGGER;RELATED=END:-PT1H
END:VALARM
END:VEVENT
BEGIN:VEVENT
UID:9ecdbc2933bfb4e07dc7f53e07d09fcc
DTSTAMP:20260419T225912Z
SUMMARY:Der Super Mario Galaxy Film 3D/2D
DESCRIPTION:Im Film begeben sich die Brüder Mario und Luigi mit Prinzessin
  Peach und Toad auf eine aufregende Reise durch die Galaxie\, wo sie dank 
 mysteriöser Sternkatapulten neue Planeten erkunden\, gefährlichen Gegner
 n begegnen und unerwartete Freunde finden.
URL:https://www.meinplaner.com
DTSTART;TZID=Europe/Amsterdam:20260420T170500
DTEND;TZID=Europe/Amsterdam:20260420T190500
LOCATION:Poetenweg 6-8\, 08056 Zwickau
BEGIN:VALARM
ACTION:DISPLAY
DESCRIPTION:Erinnerung: Der Super Mario Galaxy Film 3D/2D beginnt in 1 Stun
 de
TRIGGER;RELATED=END:-PT1H
END:VALARM
END:VEVENT
BEGIN:VEVENT
UID:7462833f8ad709e3b826e1dfd12da5d8
DTSTAMP:20260419T225912Z
SUMMARY:Der Super Mario Galaxy Film 3D/2D
DESCRIPTION:Im Film begeben sich die Brüder Mario und Luigi mit Prinzessin
  Peach und Toad auf eine aufregende Reise durch die Galaxie\, wo sie dank 
 mysteriöser Sternkatapulten neue Planeten erkunden\, gefährlichen Gegner
 n begegnen und unerwartete Freunde finden.
URL:https://www.meinplaner.com
DTSTART;TZID=Europe/Amsterdam:20260420T144000
DTEND;TZID=Europe/Amsterdam:20260420T164000
LOCATION:Poetenweg 6-8\, 08056 Zwickau
BEGIN:VALARM
ACTION:DISPLAY
DESCRIPTION:Erinnerung: Der Super Mario Galaxy Film 3D/2D beginnt in 1 Stun
 de
TRIGGER;RELATED=END:-PT1H
END:VALARM
END:VEVENT
BEGIN:VEVENT
UID:16528a4abff0a6ec673947059477b31b
DTSTAMP:20260419T225912Z
SUMMARY:Der Super Mario Galaxy Film 3D/2D
DESCRIPTION:Im Film begeben sich die Brüder Mario und Luigi mit Prinzessin
  Peach und Toad auf eine aufregende Reise durch die Galaxie\, wo sie dank 
 mysteriöser Sternkatapulten neue Planeten erkunden\, gefährlichen Gegner
 n begegnen und unerwartete Freunde finden.
URL:https://www.meinplaner.com
DTSTART;TZID=Europe/Amsterdam:20260420T200000
DTEND;TZID=Europe/Amsterdam:20260420T220000
LOCATION:Poetenweg 6-8\, 08056 Zwickau
BEGIN:VALARM
ACTION:DISPLAY
DESCRIPTION:Erinnerung: Der Super Mario Galaxy Film 3D/2D beginnt in 1 Stun
 de
TRIGGER;RELATED=END:-PT1H
END:VALARM
END:VEVENT
END:VCALENDAR
