BEGIN:VCALENDAR
PRODID:-//eluceo/ical//2.0/EN
VERSION:2.0
CALSCALE:GREGORIAN
BEGIN:VEVENT
UID:a69134a7e2a5c78bf04700b531779a58
DTSTAMP:20260421T174931Z
SUMMARY:Zeitreise unter Tage
DESCRIPTION:Besucher können bei dieser Führung eines der ältesten und sc
 hönsten Besucherbergwerke des Erzgebirges besichtigen.
URL:https://www.meinplaner.com
DTSTART;TZID=Europe/Amsterdam:20260422T160000
DTEND;TZID=Europe/Amsterdam:20260422T180000
LOCATION:Amtsseite-Dorfstr. 67\, 09496 Marienberg
BEGIN:VALARM
ACTION:DISPLAY
DESCRIPTION:Erinnerung: Zeitreise unter Tage beginnt in 1 Stunde
TRIGGER;RELATED=END:-PT1H
END:VALARM
END:VEVENT
BEGIN:VEVENT
UID:ce9bbf3edfb7cdcfa72e706effa1644a
DTSTAMP:20260421T174931Z
SUMMARY:Zeitreise unter Tage
DESCRIPTION:Besucher können bei dieser Führung eines der ältesten und sc
 hönsten Besucherbergwerke des Erzgebirges besichtigen.
URL:https://www.meinplaner.com
DTSTART;TZID=Europe/Amsterdam:20260422T113000
DTEND;TZID=Europe/Amsterdam:20260422T133000
LOCATION:Amtsseite-Dorfstr. 67\, 09496 Marienberg
BEGIN:VALARM
ACTION:DISPLAY
DESCRIPTION:Erinnerung: Zeitreise unter Tage beginnt in 1 Stunde
TRIGGER;RELATED=END:-PT1H
END:VALARM
END:VEVENT
BEGIN:VEVENT
UID:9b4111f59789afe6792456ddebb6b0e2
DTSTAMP:20260421T174931Z
SUMMARY:Zeitreise unter Tage
DESCRIPTION:Besucher können bei dieser Führung eines der ältesten und sc
 hönsten Besucherbergwerke des Erzgebirges besichtigen.
URL:https://www.meinplaner.com
DTSTART;TZID=Europe/Amsterdam:20260422T143000
DTEND;TZID=Europe/Amsterdam:20260422T163000
LOCATION:Amtsseite-Dorfstr. 67\, 09496 Marienberg
BEGIN:VALARM
ACTION:DISPLAY
DESCRIPTION:Erinnerung: Zeitreise unter Tage beginnt in 1 Stunde
TRIGGER;RELATED=END:-PT1H
END:VALARM
END:VEVENT
BEGIN:VEVENT
UID:d3baf1833f885c0a783fab01f551a82a
DTSTAMP:20260421T174931Z
SUMMARY:Zeitreise unter Tage
DESCRIPTION:Besucher können bei dieser Führung eines der ältesten und sc
 hönsten Besucherbergwerke des Erzgebirges besichtigen.
URL:https://www.meinplaner.com
DTSTART;TZID=Europe/Amsterdam:20260422T130000
DTEND;TZID=Europe/Amsterdam:20260422T150000
LOCATION:Amtsseite-Dorfstr. 67\, 09496 Marienberg
BEGIN:VALARM
ACTION:DISPLAY
DESCRIPTION:Erinnerung: Zeitreise unter Tage beginnt in 1 Stunde
TRIGGER;RELATED=END:-PT1H
END:VALARM
END:VEVENT
BEGIN:VEVENT
UID:2ae5602b5539764980e75d8e25083a9a
DTSTAMP:20260421T174931Z
SUMMARY:Zeitreise unter Tage
DESCRIPTION:Besucher können bei dieser Führung eines der ältesten und sc
 hönsten Besucherbergwerke des Erzgebirges besichtigen.
URL:https://www.meinplaner.com
DTSTART;TZID=Europe/Amsterdam:20260422T100000
DTEND;TZID=Europe/Amsterdam:20260422T120000
LOCATION:Amtsseite-Dorfstr. 67\, 09496 Marienberg
BEGIN:VALARM
ACTION:DISPLAY
DESCRIPTION:Erinnerung: Zeitreise unter Tage beginnt in 1 Stunde
TRIGGER;RELATED=END:-PT1H
END:VALARM
END:VEVENT
END:VCALENDAR
