BEGIN:VCALENDAR
PRODID:-//eluceo/ical//2.0/EN
VERSION:2.0
CALSCALE:GREGORIAN
BEGIN:VEVENT
UID:aca0c2f4cf775cffecd5000298ed2c7e
DTSTAMP:20260424T204135Z
SUMMARY:ETHOS-STIFTUNGSGALA
DESCRIPTION:Einmal pro Spielzeit feiert die Stiftung ihre Gründung und dan
 kt den Mitgliedern\, die mit ihren Beiträgen besondere Projekte der Erzge
 birgischen Theater- und Orchester GmbH fördern. Eine große Gala zeigt da
 s künstlerische Potenzial des Hauses und lädt alle ein
URL:https://www.meinplaner.com
DTSTART;TZID=Europe/Amsterdam:20260430T193000
DTEND;TZID=Europe/Amsterdam:20260430T213000
LOCATION:Buchholzer Str. 67\, 09456 Annaberg-Buchholz
BEGIN:VALARM
ACTION:DISPLAY
DESCRIPTION:Erinnerung: ETHOS-STIFTUNGSGALA beginnt in 1 Stunde
TRIGGER;RELATED=END:-PT1H
END:VALARM
END:VEVENT
END:VCALENDAR
