BEGIN:VCALENDAR
PRODID:-//eluceo/ical//2.0/EN
VERSION:2.0
CALSCALE:GREGORIAN
BEGIN:VEVENT
UID:0e9ad986adaaf41ef57c9a4c6797d51b
DTSTAMP:20260424T120818Z
SUMMARY:KAHA
DESCRIPTION:KAHA vereint Elemente aus Tai Chi\, Qi Gong\, Rückenschule und
  Yoga in einer dynamischen Bewegungsabfolge\, die die Körpervorderseite 
 öffnet und die Körperrückseite stärkt\, um den gesamten Körper zu kr
 äftigen\, mobilisieren und dehnen.
URL:https://www.meinplaner.com
DTSTART;TZID=Europe/Amsterdam:20260424T170000
DTEND;TZID=Europe/Amsterdam:20260424T174500
LOCATION:Chemnitzer Str.  133\, 09599 Freiberg
BEGIN:VALARM
ACTION:DISPLAY
DESCRIPTION:Erinnerung: KAHA beginnt in 1 Stunde
TRIGGER;RELATED=END:-PT1H
END:VALARM
END:VEVENT
BEGIN:VEVENT
UID:d7426b087c72e4f49a7868a21a26efde
DTSTAMP:20260424T120818Z
SUMMARY:KAHA
DESCRIPTION:KAHA vereint Elemente aus Tai Chi\, Qi Gong\, Rückenschule und
  Yoga in einer dynamischen Bewegungsabfolge\, die die Körpervorderseite 
 öffnet und die Körperrückseite stärkt\, um den gesamten Körper zu kr
 äftigen\, mobilisieren und dehnen.
URL:https://www.meinplaner.com
DTSTART;TZID=Europe/Amsterdam:20260424T101500
DTEND;TZID=Europe/Amsterdam:20260424T110000
LOCATION:Chemnitzer Str.  133\, 09599 Freiberg
BEGIN:VALARM
ACTION:DISPLAY
DESCRIPTION:Erinnerung: KAHA beginnt in 1 Stunde
TRIGGER;RELATED=END:-PT1H
END:VALARM
END:VEVENT
END:VCALENDAR
