BEGIN:VCALENDAR
PRODID:-//eluceo/ical//2.0/EN
VERSION:2.0
CALSCALE:GREGORIAN
BEGIN:VEVENT
UID:7a2ce80708faf3fe563bb9f21468d6d8
DTSTAMP:20260419T163416Z
SUMMARY:Tafiti - Ab durch die Wüste
DESCRIPTION:In Afrikas Savanne lebt Erdmännchen Tafiti\, das trotz Opapas 
 Warnungen ein Abenteuer wagt: Als Opapa von einer Giftschlange gebissen wi
 rd\, sucht Tafiti mit Freund Pinsel die rettende blaue Blume – eine Reis
 e voller Gefahren\, Mut und echter Freundschaft.
URL:https://www.meinplaner.com
DTSTART;TZID=Europe/Amsterdam:20260510T154500
DTEND;TZID=Europe/Amsterdam:20260510T174500
LOCATION:Hartensteiner Str. 11\, 08289 Schneeberg
BEGIN:VALARM
ACTION:DISPLAY
DESCRIPTION:Erinnerung: Tafiti - Ab durch die Wüste beginnt in 1 Stunde
TRIGGER;RELATED=END:-PT1H
END:VALARM
END:VEVENT
END:VCALENDAR
