BEGIN:VCALENDAR
PRODID:-//eluceo/ical//2.0/EN
VERSION:2.0
CALSCALE:GREGORIAN
BEGIN:VEVENT
UID:003f15dcc24aa71ef2d4b6f0e2960b91
DTSTAMP:20260425T205113Z
SUMMARY:Der Super Mario Galaxy Film
DESCRIPTION:Im Film begeben sich die Brüder Mario und Luigi mit Prinzessin
  Peach und Toad auf eine aufregende Reise durch die Galaxie\, wo sie dank 
 mysteriöser Sternkatapulten neue Planeten erkunden\, gefährlichen Gegner
 n begegnen und unerwartete Freunde finden.
URL:https://www.meinplaner.com
DTSTART;TZID=Europe/Amsterdam:20260426T130000
DTEND;TZID=Europe/Amsterdam:20260426T150000
LOCATION:Hartensteiner Str. 11\, 08289 Schneeberg
BEGIN:VALARM
ACTION:DISPLAY
DESCRIPTION:Erinnerung: Der Super Mario Galaxy Film beginnt in 1 Stunde
TRIGGER;RELATED=END:-PT1H
END:VALARM
END:VEVENT
BEGIN:VEVENT
UID:1b9346330db72f76f5267e203212c7ab
DTSTAMP:20260425T205113Z
SUMMARY:Der Super Mario Galaxy Film
DESCRIPTION:Im Film begeben sich die Brüder Mario und Luigi mit Prinzessin
  Peach und Toad auf eine aufregende Reise durch die Galaxie\, wo sie dank 
 mysteriöser Sternkatapulten neue Planeten erkunden\, gefährlichen Gegner
 n begegnen und unerwartete Freunde finden.
URL:https://www.meinplaner.com
DTSTART;TZID=Europe/Amsterdam:20260426T151500
DTEND;TZID=Europe/Amsterdam:20260426T171500
LOCATION:Hartensteiner Str. 11\, 08289 Schneeberg
BEGIN:VALARM
ACTION:DISPLAY
DESCRIPTION:Erinnerung: Der Super Mario Galaxy Film beginnt in 1 Stunde
TRIGGER;RELATED=END:-PT1H
END:VALARM
END:VEVENT
END:VCALENDAR
