BEGIN:VCALENDAR
PRODID:-//eluceo/ical//2.0/EN
VERSION:2.0
CALSCALE:GREGORIAN
BEGIN:VEVENT
UID:62c1a94419fe5ebe88df1f8caabb447e
DTSTAMP:20260421T050735Z
SUMMARY:Kreativer Hochgenuss
DESCRIPTION:Dieses Restaurant verbindet Handschuhmacherhandwerk mit kreativ
 en Gaumenfreuden. Es werden traditionell zwei Menüs angeboten\, deren Spe
 isefolge nach Saison wechselt und vom Küchenchef passend aufeinander abge
 stimmt ist.
URL:https://www.meinplaner.com
DTSTART;TZID=Europe/Amsterdam:20260423T173000
DTEND;TZID=Europe/Amsterdam:20260423T220000
LOCATION:Fürstenplatz 6\, 08289 Schneeberg
BEGIN:VALARM
ACTION:DISPLAY
DESCRIPTION:Erinnerung: Kreativer Hochgenuss beginnt in 1 Stunde
TRIGGER;RELATED=END:-PT1H
END:VALARM
END:VEVENT
END:VCALENDAR
