BEGIN:VCALENDAR
PRODID:-//eluceo/ical//2.0/EN
VERSION:2.0
CALSCALE:GREGORIAN
BEGIN:VEVENT
UID:70dbb429a50595cea5c4536e6355f0d1
DTSTAMP:20260420T234738Z
SUMMARY:Der Super Mario Galaxy Film 3D/2D
DESCRIPTION:Im Film begeben sich die Brüder Mario und Luigi mit Prinzessin
  Peach und Toad auf eine aufregende Reise durch die Galaxie\, wo sie dank 
 mysteriöser Sternkatapulten neue Planeten erkunden\, gefährlichen Gegner
 n begegnen und unerwartete Freunde finden.
URL:https://www.meinplaner.com
DTSTART;TZID=Europe/Amsterdam:20260421T150500
DTEND;TZID=Europe/Amsterdam:20260421T170500
LOCATION:Poetenweg 6-8\, 08056 Zwickau
BEGIN:VALARM
ACTION:DISPLAY
DESCRIPTION:Erinnerung: Der Super Mario Galaxy Film 3D/2D beginnt in 1 Stun
 de
TRIGGER;RELATED=END:-PT1H
END:VALARM
END:VEVENT
BEGIN:VEVENT
UID:5db18f5bfd7890fcb47ff762813ea643
DTSTAMP:20260420T234738Z
SUMMARY:Der Super Mario Galaxy Film 3D/2D
DESCRIPTION:Im Film begeben sich die Brüder Mario und Luigi mit Prinzessin
  Peach und Toad auf eine aufregende Reise durch die Galaxie\, wo sie dank 
 mysteriöser Sternkatapulten neue Planeten erkunden\, gefährlichen Gegner
 n begegnen und unerwartete Freunde finden.
URL:https://www.meinplaner.com
DTSTART;TZID=Europe/Amsterdam:20260421T173000
DTEND;TZID=Europe/Amsterdam:20260421T193000
LOCATION:Poetenweg 6-8\, 08056 Zwickau
BEGIN:VALARM
ACTION:DISPLAY
DESCRIPTION:Erinnerung: Der Super Mario Galaxy Film 3D/2D beginnt in 1 Stun
 de
TRIGGER;RELATED=END:-PT1H
END:VALARM
END:VEVENT
BEGIN:VEVENT
UID:b3e8e10cb803b1a7345676479e1adc3c
DTSTAMP:20260420T234738Z
SUMMARY:Der Super Mario Galaxy Film 3D/2D
DESCRIPTION:Im Film begeben sich die Brüder Mario und Luigi mit Prinzessin
  Peach und Toad auf eine aufregende Reise durch die Galaxie\, wo sie dank 
 mysteriöser Sternkatapulten neue Planeten erkunden\, gefährlichen Gegner
 n begegnen und unerwartete Freunde finden.
URL:https://www.meinplaner.com
DTSTART;TZID=Europe/Amsterdam:20260421T193000
DTEND;TZID=Europe/Amsterdam:20260421T213000
LOCATION:Poetenweg 6-8\, 08056 Zwickau
BEGIN:VALARM
ACTION:DISPLAY
DESCRIPTION:Erinnerung: Der Super Mario Galaxy Film 3D/2D beginnt in 1 Stun
 de
TRIGGER;RELATED=END:-PT1H
END:VALARM
END:VEVENT
BEGIN:VEVENT
UID:ab728f1a0755a091ecf49a0200ad8cac
DTSTAMP:20260420T234738Z
SUMMARY:Der Super Mario Galaxy Film 3D/2D
DESCRIPTION:Im Film begeben sich die Brüder Mario und Luigi mit Prinzessin
  Peach und Toad auf eine aufregende Reise durch die Galaxie\, wo sie dank 
 mysteriöser Sternkatapulten neue Planeten erkunden\, gefährlichen Gegner
 n begegnen und unerwartete Freunde finden.
URL:https://www.meinplaner.com
DTSTART;TZID=Europe/Amsterdam:20260421T200000
DTEND;TZID=Europe/Amsterdam:20260421T220000
LOCATION:Poetenweg 6-8\, 08056 Zwickau
BEGIN:VALARM
ACTION:DISPLAY
DESCRIPTION:Erinnerung: Der Super Mario Galaxy Film 3D/2D beginnt in 1 Stun
 de
TRIGGER;RELATED=END:-PT1H
END:VALARM
END:VEVENT
BEGIN:VEVENT
UID:94e2107a118882fb023040822df8ed9c
DTSTAMP:20260420T234738Z
SUMMARY:Der Super Mario Galaxy Film 3D/2D
DESCRIPTION:Im Film begeben sich die Brüder Mario und Luigi mit Prinzessin
  Peach und Toad auf eine aufregende Reise durch die Galaxie\, wo sie dank 
 mysteriöser Sternkatapulten neue Planeten erkunden\, gefährlichen Gegner
 n begegnen und unerwartete Freunde finden.
URL:https://www.meinplaner.com
DTSTART;TZID=Europe/Amsterdam:20260421T170500
DTEND;TZID=Europe/Amsterdam:20260421T190500
LOCATION:Poetenweg 6-8\, 08056 Zwickau
BEGIN:VALARM
ACTION:DISPLAY
DESCRIPTION:Erinnerung: Der Super Mario Galaxy Film 3D/2D beginnt in 1 Stun
 de
TRIGGER;RELATED=END:-PT1H
END:VALARM
END:VEVENT
BEGIN:VEVENT
UID:41ac5648fe1ad2c204690117b460f01f
DTSTAMP:20260420T234738Z
SUMMARY:Der Super Mario Galaxy Film 3D/2D
DESCRIPTION:Im Film begeben sich die Brüder Mario und Luigi mit Prinzessin
  Peach und Toad auf eine aufregende Reise durch die Galaxie\, wo sie dank 
 mysteriöser Sternkatapulten neue Planeten erkunden\, gefährlichen Gegner
 n begegnen und unerwartete Freunde finden.
URL:https://www.meinplaner.com
DTSTART;TZID=Europe/Amsterdam:20260421T144000
DTEND;TZID=Europe/Amsterdam:20260421T164000
LOCATION:Poetenweg 6-8\, 08056 Zwickau
BEGIN:VALARM
ACTION:DISPLAY
DESCRIPTION:Erinnerung: Der Super Mario Galaxy Film 3D/2D beginnt in 1 Stun
 de
TRIGGER;RELATED=END:-PT1H
END:VALARM
END:VEVENT
END:VCALENDAR
