BEGIN:VCALENDAR
PRODID:-//eluceo/ical//2.0/EN
VERSION:2.0
CALSCALE:GREGORIAN
BEGIN:VEVENT
UID:65a0eeb9dcc2a5ed3c682d906deabedf
DTSTAMP:20260424T110828Z
SUMMARY:Musikcafé Da Capo im Kraftwerk e. V. – Vorfreude auf das 35. Sä
 chsische Mozartfest 2026
DESCRIPTION:Im Musikcafé gibt es spannende Einblicke in das Sächsische Mo
 zartfest sowie in das internationale Festival „Theater der Welt“. Gesp
 räche und musikalische Beiträge verbinden Information und Live-Erlebnis.
URL:https://www.meinplaner.com
DTSTART;TZID=Europe/Amsterdam:20260507T150000
DTEND;TZID=Europe/Amsterdam:20260507T170000
LOCATION:Kaßbergstr. 38\, 09112 Chemnitz
BEGIN:VALARM
ACTION:DISPLAY
DESCRIPTION:Erinnerung: Musikcafé Da Capo im Kraftwerk e. V. – Vorfreude
  auf das 35. Sächsische Mozartfest 2026 beginnt in 1 Stunde
TRIGGER;RELATED=END:-PT1H
END:VALARM
END:VEVENT
END:VCALENDAR
