BEGIN:VCALENDAR
PRODID:-//eluceo/ical//2.0/EN
VERSION:2.0
CALSCALE:GREGORIAN
BEGIN:VEVENT
UID:2f106456a6173684f225387484652637
DTSTAMP:20260422T072850Z
SUMMARY:Der Rat der kleinen Leute
DESCRIPTION:Weil Kinder die Zukunft sind\, zählt auch ihre Meinung! Der 
 „Rat der kleinen Leute“ bietet Kindern zwischen 6 und 12 Jahren die M
 öglichkeit\, aktiv an der Gestaltung ihrer Stadt Augustusburg und des Leh
 ngerichts mitzuwirken\, ihre Ideen und Anliegen einzubringen.
URL:https://www.meinplaner.com
DTSTART;TZID=Europe/Amsterdam:20260513T160000
DTEND;TZID=Europe/Amsterdam:20260513T180000
LOCATION:Markt 14\, 09573 Augustusburg
BEGIN:VALARM
ACTION:DISPLAY
DESCRIPTION:Erinnerung: Der Rat der kleinen Leute beginnt in 1 Stunde
TRIGGER;RELATED=END:-PT1H
END:VALARM
END:VEVENT
END:VCALENDAR
