BEGIN:VCALENDAR
PRODID:-//eluceo/ical//2.0/EN
VERSION:2.0
CALSCALE:GREGORIAN
BEGIN:VEVENT
UID:29d6ea489d9d0c64d2345b59b1abc6ae
DTSTAMP:20260421T102514Z
SUMMARY:Speisen wie die Ratsherren
DESCRIPTION:Die historische Ausgestaltung des Ratskellers\, seinem Ratsherr
 enzimmer (10 Plätze) sowie dem Saal (55 Plätze) ist erhalten. Unter dem 
 Slogan „Köstlich. Kulinarisch. Gut bürgerlich.“ laden Speisen aus de
 r Region & erzgebirgische Spezialitäten ein. 
URL:https://www.meinplaner.com
DTSTART;TZID=Europe/Amsterdam:20260421T110000
DTEND;TZID=Europe/Amsterdam:20260421T133000
LOCATION:Hauptstraße  5\, 09380 Thalheim/Erzgeb.
BEGIN:VALARM
ACTION:DISPLAY
DESCRIPTION:Erinnerung: Speisen wie die Ratsherren beginnt in 1 Stunde
TRIGGER;RELATED=END:-PT1H
END:VALARM
END:VEVENT
BEGIN:VEVENT
UID:e13754969409ef60b81e7175cf8577cc
DTSTAMP:20260421T102514Z
SUMMARY:Speisen wie die Ratsherren
DESCRIPTION:Die historische Ausgestaltung des Ratskellers\, seinem Ratsherr
 enzimmer (10 Plätze) sowie dem Saal (55 Plätze) ist erhalten. Unter dem 
 Slogan „Köstlich. Kulinarisch. Gut bürgerlich.“ laden Speisen aus de
 r Region & erzgebirgische Spezialitäten ein. 
URL:https://www.meinplaner.com
DTSTART;TZID=Europe/Amsterdam:20260421T173000
DTEND;TZID=Europe/Amsterdam:20260421T210000
LOCATION:Hauptstraße  5\, 09380 Thalheim/Erzgeb.
BEGIN:VALARM
ACTION:DISPLAY
DESCRIPTION:Erinnerung: Speisen wie die Ratsherren beginnt in 1 Stunde
TRIGGER;RELATED=END:-PT1H
END:VALARM
END:VEVENT
END:VCALENDAR
