BEGIN:VCALENDAR
PRODID:-//eluceo/ical//2.0/EN
VERSION:2.0
CALSCALE:GREGORIAN
BEGIN:VEVENT
UID:ea6eaaaecf59623e9fc48a1e25c37d96
DTSTAMP:20260421T174709Z
SUMMARY:Von Abraham bis Zeuggraben – ein Wandertag im Marienberger Revier
DESCRIPTION:Von Abraham bis Zeuggraben erstreckt sich ein faszinierender Wa
 ndertag im Marienberger Revier\, der die Geschichte des Bergbaus seit 1519
  lebendig werden lässt und Einblicke in die Landschaft und Anekdoten der 
 Trebra-Zeit bietet. Dauer: 6 - 7 Stunden.
URL:https://www.meinplaner.com
DTSTART;TZID=Europe/Amsterdam:20260422T080000
DTEND;TZID=Europe/Amsterdam:20260422T100000
LOCATION:Markt  1\, 09496 Marienberg
BEGIN:VALARM
ACTION:DISPLAY
DESCRIPTION:Erinnerung: Von Abraham bis Zeuggraben – ein Wandertag im Mar
 ienberger Revier beginnt in 1 Stunde
TRIGGER;RELATED=END:-PT1H
END:VALARM
END:VEVENT
END:VCALENDAR
