BEGIN:VCALENDAR
PRODID:-//eluceo/ical//2.0/EN
VERSION:2.0
CALSCALE:GREGORIAN
BEGIN:VEVENT
UID:4525252fd5370fe9bf67ff945120aaa3
DTSTAMP:20260420T154112Z
SUMMARY:Für Panik ist es jetzt zu spät
DESCRIPTION:Wenn‘s um die Welt schlecht steht\, brechen für Kabarettiste
 n gute Zeiten an. Schließlich gibt’s im größten Chaos kleinste Hoffnu
 ngsschimmer zu entdecken\, und selbst der schlimmstmöglichen Wendung eine
 r Geschichte kann man lustige Seiten abgewinnen.
URL:https://www.meinplaner.com
DTSTART;TZID=Europe/Amsterdam:20260424T200000
DTEND;TZID=Europe/Amsterdam:20260424T220000
LOCATION:An der Markthalle 1 -3\, 09111 Chemnitz
BEGIN:VALARM
ACTION:DISPLAY
DESCRIPTION:Erinnerung: Für Panik ist es jetzt zu spät beginnt in 1 Stund
 e
TRIGGER;RELATED=END:-PT1H
END:VALARM
END:VEVENT
END:VCALENDAR
