BEGIN:VCALENDAR
PRODID:-//eluceo/ical//2.0/EN
VERSION:2.0
CALSCALE:GREGORIAN
BEGIN:VEVENT
UID:d4803ebc169f28a601064f2d27d1db63
DTSTAMP:20260421T003722Z
SUMMARY:Haxentag
DESCRIPTION:Am Haxentag wird der Dienstag zum Genusstag. Saftige Haxen lade
 n in gemütlicher Atmosphäre zum Schlemmen ein – herzhaft\, frisch und 
 zu einem besonders attraktiven Preis. Ein köstlicher Anlass\, den Alltag 
 hinter sich zu lassen und zu genießen.
URL:https://www.meinplaner.com
DTSTART;TZID=Europe/Amsterdam:20260421T110000
DTEND;TZID=Europe/Amsterdam:20260421T130000
LOCATION:Schloßberg 16\, 09113 Chemnitz
BEGIN:VALARM
ACTION:DISPLAY
DESCRIPTION:Erinnerung: Haxentag beginnt in 1 Stunde
TRIGGER;RELATED=END:-PT1H
END:VALARM
END:VEVENT
END:VCALENDAR
