BEGIN:VCALENDAR
PRODID:-//eluceo/ical//2.0/EN
VERSION:2.0
CALSCALE:GREGORIAN
BEGIN:VEVENT
UID:d95042f2b3dfab1725bdb17f99364307
DTSTAMP:20260424T002858Z
SUMMARY:Führung im Besucherbergwerk
DESCRIPTION:Auch wenn alles zu Fuß zu besichtigen ist\, wird in der Bergma
 nnssprache ein Rundgang als Befahrung bezeichnet. Nach einem 30 Meter lang
 en Höhlengang taucht man ein in die Welt der Steine\, der schimmernden Be
 rgseen & märchenhaften\, riesigen Sälen – den Domen.
URL:https://www.meinplaner.com
DTSTART;TZID=Europe/Amsterdam:20260424T100000
DTEND;TZID=Europe/Amsterdam:20260424T170000
LOCATION:Weg nach dem Kalkwerk  4\, 09117 Chemnitz
BEGIN:VALARM
ACTION:DISPLAY
DESCRIPTION:Erinnerung: Führung im Besucherbergwerk beginnt in 1 Stunde
TRIGGER;RELATED=END:-PT1H
END:VALARM
END:VEVENT
END:VCALENDAR
