BEGIN:VCALENDAR
PRODID:-//eluceo/ical//2.0/EN
VERSION:2.0
CALSCALE:GREGORIAN
BEGIN:VEVENT
UID:0ca8c76c979ed7022c15038b470f7328
DTSTAMP:20260421T175226Z
SUMMARY:Kann die Welt geheilt werden? Wider das Vergessen geschnitzt.
DESCRIPTION:Die musealen und bergbautechnischen Standorte oder eine Stadtto
 ur können bei einer öffentlichen Führung erkundet werden. Führungen si
 nd ab zwei zahlenden Gästen möglich\, ohne zusätzliche Führungsgebühr
 en.
URL:https://www.meinplaner.com
DTSTART;TZID=Europe/Amsterdam:20260723T133000
DTEND;TZID=Europe/Amsterdam:20260723T170000
LOCATION:Ratsseite-Rathausstr. 10\, 09496 Marienberg
BEGIN:VALARM
ACTION:DISPLAY
DESCRIPTION:Erinnerung: Kann die Welt geheilt werden? Wider das Vergessen g
 eschnitzt. beginnt in 1 Stunde
TRIGGER;RELATED=END:-PT1H
END:VALARM
END:VEVENT
END:VCALENDAR
