BEGIN:VCALENDAR
PRODID:-//eluceo/ical//2.0/EN
VERSION:2.0
CALSCALE:GREGORIAN
BEGIN:VEVENT
UID:13e3e2c6e6d0bbf65e41558fa39f3c95
DTSTAMP:20260425T020339Z
SUMMARY:Calle Malaga Ein Zuhause in Tanger
DESCRIPTION:Carmen Maura brilliert als Frau zwischen Heimat und Neubeginn. 
 Mit Charme und leiser Ironie erzählt der Film von Identität\, Alter und 
 Veränderung – ein feinfühliges Porträt mit warmem Humor und großer S
 chauspielkunst.
URL:https://www.meinplaner.com
DTSTART;TZID=Europe/Amsterdam:20260425T180000
DTEND;TZID=Europe/Amsterdam:20260425T200000
LOCATION:Zwickauer Str. 11\, 09112 Chemnitz
BEGIN:VALARM
ACTION:DISPLAY
DESCRIPTION:Erinnerung: Calle Malaga Ein Zuhause in Tanger beginnt in 1 Stu
 nde
TRIGGER;RELATED=END:-PT1H
END:VALARM
END:VEVENT
END:VCALENDAR
