BEGIN:VCALENDAR
PRODID:-//eluceo/ical//2.0/EN
VERSION:2.0
CALSCALE:GREGORIAN
BEGIN:VEVENT
UID:61ef149beaeed1c12ee8a01671eee4d8
DTSTAMP:20260422T153952Z
SUMMARY:Friedensgebet
DESCRIPTION:Friedensgebet in der Trinitatiskirche Zwönitz. Innehalten\, Be
 ten und Nachdenken für Frieden\, Hoffnung und Zusammenhalt. Eine gemeinsa
 me Zeit der Besinnung inmitten bewegter Zeiten\, getragen von Musik\, Kerz
 enlicht und stillem Gebet.
URL:https://www.meinplaner.com
DTSTART;TZID=Europe/Amsterdam:20260427T190000
DTEND;TZID=Europe/Amsterdam:20260427T210000
LOCATION:Kirchstr. 6\, 08297 Zwönitz
BEGIN:VALARM
ACTION:DISPLAY
DESCRIPTION:Erinnerung: Friedensgebet beginnt in 1 Stunde
TRIGGER;RELATED=END:-PT1H
END:VALARM
END:VEVENT
END:VCALENDAR
