BEGIN:VCALENDAR
PRODID:-//eluceo/ical//2.0/EN
VERSION:2.0
CALSCALE:GREGORIAN
BEGIN:VEVENT
UID:2a9033f8c2f7e9eca7a9ff0f94ac4860
DTSTAMP:20260423T111825Z
SUMMARY:Motorrad Grand Prix 2026
DESCRIPTION:Über 200.000 Fans werden beim Liqui Moly Motorrad Grand Prix 2
 026 auf der sächsischen Berg- und Talbahn erwartet. Zum 28. Mal treten di
 e besten Piloten der Welt an\, um den Zuschauern ein unvergessliches Motor
 sport-Spektakel zu bieten.
URL:https://www.meinplaner.com
DTSTART;TZID=Europe/Amsterdam:20260710T090000
DTEND;TZID=Europe/Amsterdam:20260710T220000
LOCATION:Am Sachsenring  2\, 09353 Oberlungwitz
BEGIN:VALARM
ACTION:DISPLAY
DESCRIPTION:Erinnerung: Motorrad Grand Prix 2026 beginnt in 1 Stunde
TRIGGER;RELATED=END:-PT1H
END:VALARM
END:VEVENT
END:VCALENDAR
