BEGIN:VCALENDAR
PRODID:-//eluceo/ical//2.0/EN
VERSION:2.0
CALSCALE:GREGORIAN
BEGIN:VEVENT
UID:8571995b985abc0a5aedf30c2bbaf496
DTSTAMP:20260419T134037Z
SUMMARY:Das Erzgebirge liest!
DESCRIPTION:Eine Autorenlesung verbindet Literatur und Regionalgeschichte: 
 Antje Henkel-Schilbach liest aus ihrem Roman „Die Frau des Papiermachers
 “ und eröffnet spannende Einblicke in die Geschichte des Papiermacherha
 ndwerks und die Vergangenheit von Wildenfels.
URL:https://www.meinplaner.com
DTSTART;TZID=Europe/Amsterdam:20260426T150000
DTEND;TZID=Europe/Amsterdam:20260426T163000
LOCATION:Schlossstr.  2\, 08134 Wildenfels
BEGIN:VALARM
ACTION:DISPLAY
DESCRIPTION:Erinnerung: Das Erzgebirge liest! beginnt in 1 Stunde
TRIGGER;RELATED=END:-PT1H
END:VALARM
END:VEVENT
END:VCALENDAR
