BEGIN:VCALENDAR
PRODID:-//eluceo/ical//2.0/EN
VERSION:2.0
CALSCALE:GREGORIAN
BEGIN:VEVENT
UID:b67a534c3f447f82d04f43084af091e4
DTSTAMP:20260420T154209Z
SUMMARY:Vier können auch anders
DESCRIPTION:Wir haben nicht genügend Lehrer\, aber dafür sind gendergerec
 hte Toiletten das Allerwichtigste. Und das im Wahljahr. Uns bleibt auch ni
 chts erspart. Aber warum stehen plötzlich zweimal Zweigler und zweimal Ul
 bricht auf der Bühne? Fragen über Fragen.
URL:https://www.meinplaner.com
DTSTART;TZID=Europe/Amsterdam:20260422T200000
DTEND;TZID=Europe/Amsterdam:20260422T220000
LOCATION:An der Markthalle 1 -3\, 09111 Chemnitz
BEGIN:VALARM
ACTION:DISPLAY
DESCRIPTION:Erinnerung: Vier können auch anders beginnt in 1 Stunde
TRIGGER;RELATED=END:-PT1H
END:VALARM
END:VEVENT
END:VCALENDAR
