BEGIN:VCALENDAR
PRODID:-//eluceo/ical//2.0/EN
VERSION:2.0
CALSCALE:GREGORIAN
BEGIN:VEVENT
UID:3ae65e89f62c870532e31f08e27c5022
DTSTAMP:20260419T163311Z
SUMMARY:Meisterlicher Hochgenuss
DESCRIPTION:Hier locken leckeres Eis & Deftiges. Antipasti\, Pizza\, Pasta 
 werden frisch zubereitet. Wer eine italienische Kaffeespezialität & ein h
 errliches Stück Torte oder einen Eisbecher schlemmen möchte\, findet im 
 mit frischen Farben eingerichteten Café immer etwas.
URL:https://www.meinplaner.com
DTSTART;TZID=Europe/Amsterdam:20260419T100000
DTEND;TZID=Europe/Amsterdam:20260419T210000
LOCATION:Straße der Nationen  12\, 09111 Chemnitz
BEGIN:VALARM
ACTION:DISPLAY
DESCRIPTION:Erinnerung: Meisterlicher Hochgenuss beginnt in 1 Stunde
TRIGGER;RELATED=END:-PT1H
END:VALARM
END:VEVENT
END:VCALENDAR
