BEGIN:VCALENDAR
PRODID:-//eluceo/ical//2.0/EN
VERSION:2.0
CALSCALE:GREGORIAN
BEGIN:VEVENT
UID:e8524848da31b891c96e6b6b1c721ed5
DTSTAMP:20260422T072732Z
SUMMARY:Fotostammtisch
DESCRIPTION:Fotofreunde\, vom Anfänger bis zum Deutschen Meister\, treffen
  sich\, um Fotos - ausgedruckt oder auf einem Datenträger - zu besprechen
  oder Bearbeitungsvorschläge zu machen. Auch erfahrene Hobbyfotografen er
 halten Neuigkeiten von Anfängern.
URL:https://www.meinplaner.com
DTSTART;TZID=Europe/Amsterdam:20260508T183000
DTEND;TZID=Europe/Amsterdam:20260508T203000
LOCATION:Haselbacher Str. 27\, 09526 Olbernhau
BEGIN:VALARM
ACTION:DISPLAY
DESCRIPTION:Erinnerung: Fotostammtisch beginnt in 1 Stunde
TRIGGER;RELATED=END:-PT1H
END:VALARM
END:VEVENT
END:VCALENDAR
