BEGIN:VCALENDAR
PRODID:-//eluceo/ical//2.0/EN
VERSION:2.0
CALSCALE:GREGORIAN
BEGIN:VEVENT
UID:ed64081041b3dab7ef6300b59663da04
DTSTAMP:20260420T154209Z
SUMMARY:Chance per Annonce
DESCRIPTION:Paul ist glücklich verheiratet. So glücklich man nach 20 Jahr
 en Ehe eben sein kann. Und Paul liest gern Kontaktanzeigen in der Zeitung.
  Zum Spaß. Eine Anzeige aber macht ihn stutzig und er schmiedet mit seine
 n Skatkumpels einen Plan. Ob das gut geht?
URL:https://www.meinplaner.com
DTSTART;TZID=Europe/Amsterdam:20260506T190000
DTEND;TZID=Europe/Amsterdam:20260506T210000
LOCATION:Eislebener Str. 8\, 09126 Chemnitz
BEGIN:VALARM
ACTION:DISPLAY
DESCRIPTION:Erinnerung: Chance per Annonce beginnt in 1 Stunde
TRIGGER;RELATED=END:-PT1H
END:VALARM
END:VEVENT
END:VCALENDAR
