BEGIN:VCALENDAR
PRODID:-//eluceo/ical//2.0/EN
VERSION:2.0
CALSCALE:GREGORIAN
BEGIN:VEVENT
UID:6a7c0608de453ccd780e51e14f1c7e71
DTSTAMP:20260426T015348Z
SUMMARY:Piano-Live-Musik zur Kaffeezeit
DESCRIPTION:Piano-Livemusik zur Kaffeezeit sorgt für genussvolle Momente: 
 Erstklassige Konditoreiwaren\, feine Pralinen und aromatischer Kaffee verb
 inden sich zu einer stilvollen Auszeit voller Geschmack und Atmosphäre.
URL:https://www.meinplaner.com
DTSTART;TZID=Europe/Amsterdam:20260426T150000
DTEND;TZID=Europe/Amsterdam:20260426T170000
LOCATION:Düsseldorfer Platz 1\, 09111 Chemnitz
BEGIN:VALARM
ACTION:DISPLAY
DESCRIPTION:Erinnerung: Piano-Live-Musik zur Kaffeezeit beginnt in 1 Stunde
TRIGGER;RELATED=END:-PT1H
END:VALARM
END:VEVENT
END:VCALENDAR
