BEGIN:VCALENDAR
PRODID:-//eluceo/ical//2.0/EN
VERSION:2.0
CALSCALE:GREGORIAN
BEGIN:VEVENT
UID:8d97a921af5dbb7a85724c57fda12cc3
DTSTAMP:20260422T181659Z
SUMMARY:Die leckerste Fanmeile der Stadt -  Public Viewing WM
DESCRIPTION:Fussballfeeling pur erleben: Gemütlich auf einem der einladend
 en Restaurantplätze sitzen oder über die „leckerste“ Fanmeile flanie
 ren. Große LED-Wände und vielfältige kulinarische Angebote sorgen für 
 ein unvergessliches Erlebnis.
URL:https://www.meinplaner.com
DTSTART;TZID=Europe/Amsterdam:20260611T180000
DTEND;TZID=Europe/Amsterdam:20260612T050000
LOCATION:Innere Klosterstraße 4\, 09111 Chemnitz
BEGIN:VALARM
ACTION:DISPLAY
DESCRIPTION:Erinnerung: Die leckerste Fanmeile der Stadt -  Public Viewing 
 WM beginnt in 1 Stunde
TRIGGER;RELATED=END:-PT1H
END:VALARM
END:VEVENT
END:VCALENDAR
