BEGIN:VCALENDAR
PRODID:-//eluceo/ical//2.0/EN
VERSION:2.0
CALSCALE:GREGORIAN
BEGIN:VEVENT
UID:622f9e09abe69cb7ecfb554061b0e5c3
DTSTAMP:20260422T215126Z
SUMMARY:Michael
DESCRIPTION:Der Film beleuchtet Michael Jacksons faszinierendes Leben\, von
  den Anfängen als Leadsänger der Jackson Five bis zu seinem Aufstieg als
  visionärer Künstler und gewährt einen einzigartigen Einblick in seine 
 legendären Auftritte und das Leben abseits der Bühne.
URL:https://www.meinplaner.com
DTSTART;TZID=Europe/Amsterdam:20260423T151500
DTEND;TZID=Europe/Amsterdam:20260423T171500
LOCATION:Hartensteiner Str. 11\, 08289 Schneeberg
BEGIN:VALARM
ACTION:DISPLAY
DESCRIPTION:Erinnerung: Michael beginnt in 1 Stunde
TRIGGER;RELATED=END:-PT1H
END:VALARM
END:VEVENT
BEGIN:VEVENT
UID:d2e74371f9c2f418f87a3ee96d7615ef
DTSTAMP:20260422T215126Z
SUMMARY:Michael
DESCRIPTION:Der Film beleuchtet Michael Jacksons faszinierendes Leben\, von
  den Anfängen als Leadsänger der Jackson Five bis zu seinem Aufstieg als
  visionärer Künstler und gewährt einen einzigartigen Einblick in seine 
 legendären Auftritte und das Leben abseits der Bühne.
URL:https://www.meinplaner.com
DTSTART;TZID=Europe/Amsterdam:20260423T201500
DTEND;TZID=Europe/Amsterdam:20260423T221500
LOCATION:Hartensteiner Str. 11\, 08289 Schneeberg
BEGIN:VALARM
ACTION:DISPLAY
DESCRIPTION:Erinnerung: Michael beginnt in 1 Stunde
TRIGGER;RELATED=END:-PT1H
END:VALARM
END:VEVENT
BEGIN:VEVENT
UID:2a32c76792eeb4f69f640e8cfa3a0114
DTSTAMP:20260422T215126Z
SUMMARY:Michael
DESCRIPTION:Der Film beleuchtet Michael Jacksons faszinierendes Leben\, von
  den Anfängen als Leadsänger der Jackson Five bis zu seinem Aufstieg als
  visionärer Künstler und gewährt einen einzigartigen Einblick in seine 
 legendären Auftritte und das Leben abseits der Bühne.
URL:https://www.meinplaner.com
DTSTART;TZID=Europe/Amsterdam:20260423T173000
DTEND;TZID=Europe/Amsterdam:20260423T193000
LOCATION:Hartensteiner Str. 11\, 08289 Schneeberg
BEGIN:VALARM
ACTION:DISPLAY
DESCRIPTION:Erinnerung: Michael beginnt in 1 Stunde
TRIGGER;RELATED=END:-PT1H
END:VALARM
END:VEVENT
END:VCALENDAR
