BEGIN:VCALENDAR
PRODID:-//eluceo/ical//2.0/EN
VERSION:2.0
CALSCALE:GREGORIAN
BEGIN:VEVENT
UID:ded3954271132bcb8d3026c8b5ae9e1d
DTSTAMP:20260424T181853Z
SUMMARY:Schatzkammer-Museum
DESCRIPTION:Das Schatzkammer-Museum präsentiert Exponate ferner Kulturen\,
  die zum Teil mehrere tausend Jahre alt und von unschätzbarem kulturhisto
 rischem Wert sind. Dazu zählen u.a. Kunst- und Ritualgegenstände aus Nep
 al und Tibet\, Porzellane aus China.
URL:https://www.meinplaner.com
DTSTART;TZID=Europe/Amsterdam:20260425T100000
DTEND;TZID=Europe/Amsterdam:20260425T180000
LOCATION:Schlossallee 1\, 09577 Niederwiesa
BEGIN:VALARM
ACTION:DISPLAY
DESCRIPTION:Erinnerung: Schatzkammer-Museum beginnt in 1 Stunde
TRIGGER;RELATED=END:-PT1H
END:VALARM
END:VEVENT
END:VCALENDAR
