BEGIN:VCALENDAR
PRODID:-//eluceo/ical//2.0/EN
VERSION:2.0
CALSCALE:GREGORIAN
BEGIN:VEVENT
UID:da61190063c86d16d403d9c1c412c577
DTSTAMP:20260425T165845Z
SUMMARY:CineLady Premiere: Der Teufel trägt Prada 2 - Fashion. Glamour. Ci
 nema
DESCRIPTION:Ein glamouröses Event rund um Film und Mode: Im CineStar Chemn
 itz erwartet die Gäste eine exklusive Premiere mit Sektempfang\, Livemusi
 k und einer stilvollen Modenschau. Ein Abend voller Eleganz\, Kino und Lif
 estyle.
URL:https://www.meinplaner.com
DTSTART;TZID=Europe/Amsterdam:20260429T180000
DTEND;TZID=Europe/Amsterdam:20260429T200000
LOCATION:Neumarkt  2\, 09111 Chemnitz
BEGIN:VALARM
ACTION:DISPLAY
DESCRIPTION:Erinnerung: CineLady Premiere: Der Teufel trägt Prada 2 - Fash
 ion. Glamour. Cinema beginnt in 1 Stunde
TRIGGER;RELATED=END:-PT1H
END:VALARM
END:VEVENT
END:VCALENDAR
