BEGIN:VCALENDAR
PRODID:-//eluceo/ical//2.0/EN
VERSION:2.0
CALSCALE:GREGORIAN
BEGIN:VEVENT
UID:f29899066cffa95bd348168bc4ab5716
DTSTAMP:20260424T012024Z
SUMMARY:Junge Weine und gereifte Jahrgänge 
DESCRIPTION:Hier dürfen Weinliebhaber abtauchen in ihre Welt: Die beleucht
 eten Raumtrenner der Vinothek sind gläserne Kühlgeräte für die perfekt
  temperierte Lagerung der flüssigen Schätze.  Insgesamt werden 350 Weine
  aus aller Welt angeboten\, die ein Sommelier "hütet".
URL:https://www.meinplaner.com
DTSTART;TZID=Europe/Amsterdam:20260424T120000
DTEND;TZID=Europe/Amsterdam:20260424T140000
LOCATION:Ludwig-Kirsch-Str. 9\, 09130 Chemnitz
BEGIN:VALARM
ACTION:DISPLAY
DESCRIPTION:Erinnerung: Junge Weine und gereifte Jahrgänge  beginnt in 1 S
 tunde
TRIGGER;RELATED=END:-PT1H
END:VALARM
END:VEVENT
BEGIN:VEVENT
UID:86b130ca63b33386f99eab472207c160
DTSTAMP:20260424T012024Z
SUMMARY:Junge Weine und gereifte Jahrgänge 
DESCRIPTION:Hier dürfen Weinliebhaber abtauchen in ihre Welt: Die beleucht
 eten Raumtrenner der Vinothek sind gläserne Kühlgeräte für die perfekt
  temperierte Lagerung der flüssigen Schätze.  Insgesamt werden 350 Weine
  aus aller Welt angeboten\, die ein Sommelier "hütet".
URL:https://www.meinplaner.com
DTSTART;TZID=Europe/Amsterdam:20260424T180000
DTEND;TZID=Europe/Amsterdam:20260424T220000
LOCATION:Ludwig-Kirsch-Str. 9\, 09130 Chemnitz
BEGIN:VALARM
ACTION:DISPLAY
DESCRIPTION:Erinnerung: Junge Weine und gereifte Jahrgänge  beginnt in 1 S
 tunde
TRIGGER;RELATED=END:-PT1H
END:VALARM
END:VEVENT
END:VCALENDAR
