BEGIN:VCALENDAR
PRODID:-//eluceo/ical//2.0/EN
VERSION:2.0
CALSCALE:GREGORIAN
BEGIN:VEVENT
UID:2277133da2dfc7bf44964e8f6340ae30
DTSTAMP:20260424T024631Z
SUMMARY:Übernachten im "Schneiderlein"
DESCRIPTION:Ruhig gelegen und doch nahe zahlreicher Ausflugsziele liegt die
 ses Hotel. Die hell und freundlich eingerichteten Zimmer\, der hervorragen
 de Service und das angeschlossene Restaurant versprechen einen angenehmen 
 Aufenthalt - auch für Reisende mit Hunden.\n
URL:https://www.meinplaner.com
DTSTART;TZID=Europe/Amsterdam:20260424T170000
DTEND;TZID=Europe/Amsterdam:20260424T210000
LOCATION:Oberer Gutsweg 17c\, 09212 Limbach-Oberfrohna
BEGIN:VALARM
ACTION:DISPLAY
DESCRIPTION:Erinnerung: Übernachten im "Schneiderlein" beginnt in 1 Stunde
TRIGGER;RELATED=END:-PT1H
END:VALARM
END:VEVENT
END:VCALENDAR
